{
 "currentVersion": 11.4,
 "cimVersion": "3.4.0",
 "serviceDescription": "",
 "mapName": "Imagery",
 "description": "",
 "copyrightText": "",
 "supportsDynamicLayers": true,
 "layers": [
  {
   "id": 0,
   "name": "Imagery",
   "parentLayerId": -1,
   "defaultVisibility": true,
   "subLayerIds": null,
   "minScale": 0,
   "maxScale": 0,
   "type": "Feature Layer",
   "geometryType": "esriGeometryPolygon",
   "supportsDynamicLegends": true
  }
 ],
 "tables": [],
 "spatialReference": {
  "wkid": 102723,
  "latestWkid": 3735,
  "xyTolerance": 0.003280833333333333,
  "zTolerance": 0.001,
  "mTolerance": 0.001,
  "falseX": -119670700,
  "falseY": -95612900,
  "xyUnits": 3048.0060960121928,
  "falseZ": -100000,
  "zUnits": 10000,
  "falseM": -100000,
  "mUnits": 10000
 },
 "singleFusedMapCache": true,
 "tileInfo": {
  "rows": 256,
  "cols": 256,
  "dpi": 96,
  "format": "MIXED",
  "compressionQuality": 75,
  "origin": {
   "x": -119670700,
   "y": 1.4766550000000003E8
  },
  "spatialReference": {
   "wkid": 102723,
   "latestWkid": 3735,
   "xyTolerance": 0.003280833333333333,
   "zTolerance": 0.001,
   "mTolerance": 0.001,
   "falseX": -119670700,
   "falseY": -95612900,
   "xyUnits": 3.702424569851244E7,
   "falseZ": -100000,
   "zUnits": 10000,
   "falseM": -100000,
   "mUnits": 10000
  },
  "lods": [
   {
    "level": 0,
    "resolution": 513591.6038121137,
    "scale": 5.91657527591555E8
   },
   {
    "level": 1,
    "resolution": 256795.80190605644,
    "scale": 2.95828763795777E8
   },
   {
    "level": 2,
    "resolution": 128397.90095302863,
    "scale": 1.47914381897889E8
   },
   {
    "level": 3,
    "resolution": 64198.950476513884,
    "scale": 7.3957190948944E7
   },
   {
    "level": 4,
    "resolution": 32099.475238256942,
    "scale": 3.6978595474472E7
   },
   {
    "level": 5,
    "resolution": 16049.737619128471,
    "scale": 1.8489297737236E7
   },
   {
    "level": 6,
    "resolution": 8024.868809564236,
    "scale": 9244648.868618
   },
   {
    "level": 7,
    "resolution": 4012.434404782118,
    "scale": 4622324.434309
   },
   {
    "level": 8,
    "resolution": 2006.2172023914932,
    "scale": 2311162.217155
   },
   {
    "level": 9,
    "resolution": 1003.1086011953124,
    "scale": 1155581.108577
   },
   {
    "level": 10,
    "resolution": 501.55430059809026,
    "scale": 577790.554289
   },
   {
    "level": 11,
    "resolution": 250.7771502986111,
    "scale": 288895.277144
   },
   {
    "level": 12,
    "resolution": 125.38857514930555,
    "scale": 144447.638572
   },
   {
    "level": 13,
    "resolution": 62.694287574652776,
    "scale": 72223.819286
   },
   {
    "level": 14,
    "resolution": 31.347143787326388,
    "scale": 36111.909643
   },
   {
    "level": 15,
    "resolution": 15.673571894097222,
    "scale": 18055.954822
   },
   {
    "level": 16,
    "resolution": 7.836785947048611,
    "scale": 9027.977411
   },
   {
    "level": 17,
    "resolution": 3.9183929730902776,
    "scale": 4513.988705
   },
   {
    "level": 18,
    "resolution": 1.9591964869791667,
    "scale": 2256.994353
   },
   {
    "level": 19,
    "resolution": 0.9795982430555555,
    "scale": 1128.497176
   },
   {
    "level": 20,
    "resolution": 0.48979912152777777,
    "scale": 564.248588
   },
   {
    "level": 21,
    "resolution": 0.24489956076388888,
    "scale": 282.124294
   }
  ]
 },
 "storageInfo": {
  "storageFormat": "esriMapCacheStorageModeCompactV2",
  "packetSize": 128
 },
 "initialExtent": {
  "xmin": 1783732.690878844,
  "ymin": 640770.5464272322,
  "xmax": 2160110.2311547752,
  "ymax": 890650.8282889125,
  "spatialReference": {
   "wkid": 102723,
   "latestWkid": 3735,
   "xyTolerance": 0.003280833333333333,
   "zTolerance": 0.001,
   "mTolerance": 0.001,
   "falseX": -119670700,
   "falseY": -95612900,
   "xyUnits": 3048.0060960121928,
   "falseZ": -100000,
   "zUnits": 10000,
   "falseM": -100000,
   "mUnits": 10000
  }
 },
 "fullExtent": {
  "xmin": 1889310.3148605525,
  "ymin": 696963.4395991415,
  "xmax": 2057050.6060197204,
  "ymax": 829443.37214531,
  "spatialReference": {
   "wkid": 102723,
   "latestWkid": 3735,
   "xyTolerance": 0.003280833333333333,
   "zTolerance": 0.001,
   "mTolerance": 0.001,
   "falseX": -119670700,
   "falseY": -95612900,
   "xyUnits": 3048.0060960121928,
   "falseZ": -100000,
   "zUnits": 10000,
   "falseM": -100000,
   "mUnits": 10000
  }
 },
 "datesInUnknownTimezone": false,
 "minScale": 5.91657527591555E8,
 "maxScale": 282.124294,
 "units": "esriFeet",
 "supportedImageFormatTypes": "PNG32,PNG24,PNG,JPG,DIB,TIFF,EMF,PS,PDF,GIF,SVG,SVGZ,BMP",
 "documentInfo": {
  "Title": "Map",
  "Author": "",
  "Comments": "",
  "Subject": "",
  "Category": "",
  "Version": "3.4.0",
  "AntialiasingMode": "Fast",
  "TextAntialiasingMode": "Force",
  "Keywords": "Imagery"
 },
 "supportsQueryDomains": true,
 "capabilities": "Map,Query,Data",
 "supportedQueryFormats": "JSON, geoJSON, PBF",
 "hasVersionedData": true,
 "exportTilesAllowed": false,
 "referenceScale": 0.0,
 "datumTransformations": [
  {
   "geoTransforms": [
    {
     "wkid": 108190,
     "latestWkid": 108190,
     "transformForward": true,
     "name": "WGS_1984_(ITRF00)_To_NAD_1983"
    }
   ]
  },
  {
   "geoTransforms": [
    {
     "wkid": 108190,
     "latestWkid": 108190,
     "transformForward": false,
     "name": "WGS_1984_(ITRF00)_To_NAD_1983"
    }
   ]
  }
 ],
 "supportsDatumTransformation": true,
 "archivingInfo": {
  "supportsHistoricMoment": true
 },
 "supportsClipping": true,
 "supportsSpatialFilter": true,
 "supportsTimeRelation": true,
 "supportsQueryDataElements": true,
 "mapUnits": {
  "uwkid": 9003
 },
 "maxSelectionCount": 2000,
 "maxRecordCount": 2000,
 "maxImageHeight": 4096,
 "maxImageWidth": 4096,
 "supportedExtensions": "",
 "resampling": false,
 "serviceItemId": "67a03ac21d6c4fdbb017a71551002d4b"
}
